BEGIN:VCALENDAR
VERSION:2.0
PRODID:-//Blowing Rock Charity Horse Show - ECPv6.15.17.1//NONSGML v1.0//EN
CALSCALE:GREGORIAN
METHOD:PUBLISH
X-ORIGINAL-URL:https://brchs.org
X-WR-CALDESC:Events for Blowing Rock Charity Horse Show
REFRESH-INTERVAL;VALUE=DURATION:PT1H
X-Robots-Tag:noindex
X-PUBLISHED-TTL:PT1H
BEGIN:VTIMEZONE
TZID:America/New_York
BEGIN:DAYLIGHT
TZOFFSETFROM:-0500
TZOFFSETTO:-0400
TZNAME:EDT
DTSTART:20210314T070000
END:DAYLIGHT
BEGIN:STANDARD
TZOFFSETFROM:-0400
TZOFFSETTO:-0500
TZNAME:EST
DTSTART:20211107T060000
END:STANDARD
BEGIN:DAYLIGHT
TZOFFSETFROM:-0500
TZOFFSETTO:-0400
TZNAME:EDT
DTSTART:20220313T070000
END:DAYLIGHT
BEGIN:STANDARD
TZOFFSETFROM:-0400
TZOFFSETTO:-0500
TZNAME:EST
DTSTART:20221106T060000
END:STANDARD
BEGIN:DAYLIGHT
TZOFFSETFROM:-0500
TZOFFSETTO:-0400
TZNAME:EDT
DTSTART:20230312T070000
END:DAYLIGHT
BEGIN:STANDARD
TZOFFSETFROM:-0400
TZOFFSETTO:-0500
TZNAME:EST
DTSTART:20231105T060000
END:STANDARD
END:VTIMEZONE
BEGIN:VEVENT
DTSTART;TZID=America/New_York:20221001T090000
DTEND;TZID=America/New_York:20221002T170000
DTSTAMP:20260422T124717
CREATED:20211115T150123Z
LAST-MODIFIED:20211115T150325Z
UID:1507-1664614800-1664730000@brchs.org
SUMMARY:Robby Potter Clinic - Benefit Ride for Spirit Ride Therapeutic Riding Center
DESCRIPTION:Join us for a special 2-day horsemanship clinic in Blowing Rock! All are welcome! Click here to learn more about Robbie and what he can do for you. All proceeds will go to benefit Spirit Ride Therapeutic Riding Center.
URL:https://brchs.org/event/robby-potter-clinic-benefit-ride-for-spirit-ride-therapeutic-riding-center/
LOCATION:Broyhill Equestrian Preserve\, 1500 Laurel Ln\, Blowing Rock\, NC\, 28605\, United States
CATEGORIES:Events
ATTACH;FMTTYPE=image/jpeg:https://brchs.org/files/media/2021/11/Robbie_Potter-1024x683-1.jpeg
ORGANIZER;CN="Patty Adams":MAILTO:spiritridenc@gmail.com
END:VEVENT
END:VCALENDAR