BEGIN:VCALENDAR
VERSION:2.0
PRODID:-//Blowing Rock Charity Horse Show - ECPv6.15.17.1//NONSGML v1.0//EN
CALSCALE:GREGORIAN
METHOD:PUBLISH
X-ORIGINAL-URL:https://brchs.org
X-WR-CALDESC:Events for Blowing Rock Charity Horse Show
REFRESH-INTERVAL;VALUE=DURATION:PT1H
X-Robots-Tag:noindex
X-PUBLISHED-TTL:PT1H
BEGIN:VTIMEZONE
TZID:America/New_York
BEGIN:DAYLIGHT
TZOFFSETFROM:-0500
TZOFFSETTO:-0400
TZNAME:EDT
DTSTART:20190310T070000
END:DAYLIGHT
BEGIN:STANDARD
TZOFFSETFROM:-0400
TZOFFSETTO:-0500
TZNAME:EST
DTSTART:20191103T060000
END:STANDARD
BEGIN:DAYLIGHT
TZOFFSETFROM:-0500
TZOFFSETTO:-0400
TZNAME:EDT
DTSTART:20200308T070000
END:DAYLIGHT
BEGIN:STANDARD
TZOFFSETFROM:-0400
TZOFFSETTO:-0500
TZNAME:EST
DTSTART:20201101T060000
END:STANDARD
BEGIN:DAYLIGHT
TZOFFSETFROM:-0500
TZOFFSETTO:-0400
TZNAME:EDT
DTSTART:20210314T070000
END:DAYLIGHT
BEGIN:STANDARD
TZOFFSETFROM:-0400
TZOFFSETTO:-0500
TZNAME:EST
DTSTART:20211107T060000
END:STANDARD
END:VTIMEZONE
BEGIN:VEVENT
DTSTART;VALUE=DATE:20200928
DTEND;VALUE=DATE:20201005
DTSTAMP:20260423T211636
CREATED:20200512T234515Z
LAST-MODIFIED:20200512T234515Z
UID:1312-1601251200-1601855999@brchs.org
SUMMARY:Fjord and Friends Fest
DESCRIPTION:
URL:https://brchs.org/event/fjord-and-friends-fest/
LOCATION:Broyhill Equestrian Preserve\, 1500 Laurel Ln\, Blowing Rock\, NC\, 28605\, United States
CATEGORIES:Events
ATTACH;FMTTYPE=image/png:https://brchs.org/files/media/2017/04/Fjord-horse-in-harness.png
END:VEVENT
END:VCALENDAR