BEGIN:VCALENDAR
VERSION:2.0
PRODID:-//Blowing Rock Charity Horse Show - ECPv6.15.17.1//NONSGML v1.0//EN
CALSCALE:GREGORIAN
METHOD:PUBLISH
X-ORIGINAL-URL:https://brchs.org
X-WR-CALDESC:Events for Blowing Rock Charity Horse Show
REFRESH-INTERVAL;VALUE=DURATION:PT1H
X-Robots-Tag:noindex
X-PUBLISHED-TTL:PT1H
BEGIN:VTIMEZONE
TZID:America/New_York
BEGIN:DAYLIGHT
TZOFFSETFROM:-0500
TZOFFSETTO:-0400
TZNAME:EDT
DTSTART:20190310T070000
END:DAYLIGHT
BEGIN:STANDARD
TZOFFSETFROM:-0400
TZOFFSETTO:-0500
TZNAME:EST
DTSTART:20191103T060000
END:STANDARD
BEGIN:DAYLIGHT
TZOFFSETFROM:-0500
TZOFFSETTO:-0400
TZNAME:EDT
DTSTART:20200308T070000
END:DAYLIGHT
BEGIN:STANDARD
TZOFFSETFROM:-0400
TZOFFSETTO:-0500
TZNAME:EST
DTSTART:20201101T060000
END:STANDARD
BEGIN:DAYLIGHT
TZOFFSETFROM:-0500
TZOFFSETTO:-0400
TZNAME:EDT
DTSTART:20210314T070000
END:DAYLIGHT
BEGIN:STANDARD
TZOFFSETFROM:-0400
TZOFFSETTO:-0500
TZNAME:EST
DTSTART:20211107T060000
END:STANDARD
END:VTIMEZONE
BEGIN:VEVENT
DTSTART;VALUE=DATE:20200713
DTEND;VALUE=DATE:20200811
DTSTAMP:20260417T103250
CREATED:20200512T234125Z
LAST-MODIFIED:20200512T234125Z
UID:1310-1594598400-1597103999@brchs.org
SUMMARY:BEP Closed for Campers and Riders
DESCRIPTION:
URL:https://brchs.org/event/bep-closed-for-campers-and-riders/
LOCATION:NC
CATEGORIES:Closings
ATTACH;FMTTYPE=image/png:https://brchs.org/files/media/2017/04/closure.png
END:VEVENT
BEGIN:VEVENT
DTSTART;VALUE=DATE:20200729
DTEND;VALUE=DATE:20200803
DTSTAMP:20260417T103250
CREATED:20191011T155452Z
LAST-MODIFIED:20200512T234216Z
UID:1277-1595980800-1596412799@brchs.org
SUMMARY:Blowing Rock Charity Horse Show - HUNTER / JUMPER Division Week #2
DESCRIPTION:
URL:https://brchs.org/event/blowing-rock-charity-horse-show-hunter-jumper-division-week-2-2020/
LOCATION:L.M. Tate Showgrounds at the Broyhill Equestrian Preserve\, 1500 Laurel Ln\, Blowing Rock\, NC\, 28605\, United States
CATEGORIES:Shows
ATTACH;FMTTYPE=image/jpeg:https://brchs.org/files/media/2017/04/BRCHS-hunter-grace-jumper.jpg
END:VEVENT
END:VCALENDAR