BEGIN:VCALENDAR
VERSION:2.0
PRODID:-//Blowing Rock Charity Horse Show - ECPv6.15.17.1//NONSGML v1.0//EN
CALSCALE:GREGORIAN
METHOD:PUBLISH
X-WR-CALNAME:Blowing Rock Charity Horse Show
X-ORIGINAL-URL:https://brchs.org
X-WR-CALDESC:Events for Blowing Rock Charity Horse Show
REFRESH-INTERVAL;VALUE=DURATION:PT1H
X-Robots-Tag:noindex
X-PUBLISHED-TTL:PT1H
BEGIN:VTIMEZONE
TZID:America/New_York
BEGIN:DAYLIGHT
TZOFFSETFROM:-0500
TZOFFSETTO:-0400
TZNAME:EDT
DTSTART:20180311T070000
END:DAYLIGHT
BEGIN:STANDARD
TZOFFSETFROM:-0400
TZOFFSETTO:-0500
TZNAME:EST
DTSTART:20181104T060000
END:STANDARD
BEGIN:DAYLIGHT
TZOFFSETFROM:-0500
TZOFFSETTO:-0400
TZNAME:EDT
DTSTART:20190310T070000
END:DAYLIGHT
BEGIN:STANDARD
TZOFFSETFROM:-0400
TZOFFSETTO:-0500
TZNAME:EST
DTSTART:20191103T060000
END:STANDARD
BEGIN:DAYLIGHT
TZOFFSETFROM:-0500
TZOFFSETTO:-0400
TZNAME:EDT
DTSTART:20200308T070000
END:DAYLIGHT
BEGIN:STANDARD
TZOFFSETFROM:-0400
TZOFFSETTO:-0500
TZNAME:EST
DTSTART:20201101T060000
END:STANDARD
END:VTIMEZONE
BEGIN:VEVENT
DTSTART;VALUE=DATE:20190912
DTEND;VALUE=DATE:20190916
DTSTAMP:20260424T132721
CREATED:20190327T205042Z
LAST-MODIFIED:20190327T205042Z
UID:1093-1568246400-1568591999@brchs.org
SUMMARY:NC AQHA (quarter horse ride)
DESCRIPTION:
URL:https://brchs.org/event/nc-aqha-quarter-horse-ride-2019/
LOCATION:Broyhill Equestrian Preserve\, 1500 Laurel Ln\, Blowing Rock\, NC\, 28605\, United States
CATEGORIES:Events
END:VEVENT
BEGIN:VEVENT
DTSTART;TZID=America/New_York:20190921T140000
DTEND;TZID=America/New_York:20190921T180000
DTSTAMP:20260424T132721
CREATED:20190818T002053Z
LAST-MODIFIED:20190828T201255Z
UID:1254-1569074400-1569088800@brchs.org
SUMMARY:$50\,000 James H. Fisher International Grand Prix
DESCRIPTION:At 2:00 PM On September 21\, 2019\, the Third Annual James H. Fisher International Grand Prix will be held at the L. M. Tate Show Grounds in the Broyhill Equestrian Preserve. The two prior events were held in Marshall\, NC near Asheville. The Grand Prix is sponsored by the James H. Fisher Memorial Foundation and its chair Jack Fisher\, father of the late James Fisher. \nThe Grand Prix is moving to Blowing Rock because of the charm and appeal of this unique mountain village\, the traditions of horse sports\, the availability of an historic facility and the wide support the people in Blowing Rock give to many community charities. The beneficiaries of this year’s Grand Prix are two food banks: MANNA in Asheville and The Hunger & Health Coalition in Boone. \nTwenty-five to thirty riders\, six from foreign countries\, and two dozen US riders are expected to compete for $50\,000 in prize money. It is the largest purse ever offered for an equestrian event in Blowing Rock. Riders can bring as many horses as they wish\, but can only ride one horse in the competition. Scoring is simple. The rail is up\, the rail is down\, and the clock determines the winner. \nThe event manager is Vick Russell of Tryon\, NC who is expected to have several family members competing. Tickets are $75 for Premium tickets which includes a special luncheon\, reserved box seating and valet parking. General admission is $10 and includes Grandstand seating. There will be food concessions available on the grounds. \nHorses and riders will begin arriving on Friday\, September 20. Festivities begin with a luncheon for Premium Ticket holders at 11:00AM\, followed by a Calcutta. The competition will begin at 2:00 PM. \nThe Calcutta provides the opportunity for all Premium and General Admission ticketholders to “bid” on the riders they hope will win the competition. There will be a meet-and-great with riders and bidders after the luncheon. The Calcutta will follow. A week at an elegant international vacation home will be awarded to the highest bidder who selects the winning rider. All Calcutta proceeds go directly to MANNA and Hunger & Health Coalition. \nJohn Vann\, local volunteer and liaison with the Blowing Rock Charity Horse Show Foundation said\, “Even though this event is not part of the annual Blowing Rock Charity Horse Show\, the objectives of the Fisher Memorial Foundation fit perfectly with our own. We are privileged to host this extraordinary event at the Broyhill Preserve and are working hard to make this an exceptional day to honor the memory James Fisher and his love of show jumping. We look forward to a long relationship with this wonderful event and with the generous Fisher family.” \nJack Fisher said\, “We are grateful to the Town of Blowing Rock and to the Horse Show Foundation for their kind and enthusiastic reception. This is going to be a grand event with some of the finest show jumpers in the country competing at the highest level. My family and I look forward to many years of spectacular show jumping here in Blowing Rock and many years of helping stock the food pantries for those in need throughout Western North Carolina.” \n 
URL:https://brchs.org/event/50000-james-h-fisher-international-grand-prix/
LOCATION:Broyhill Equestrian Preserve\, 1500 Laurel Ln\, Blowing Rock\, NC\, 28605\, United States
CATEGORIES:Events
ATTACH;FMTTYPE=image/jpeg:https://brchs.org/files/media/2019/08/james-fisher.jpeg
END:VEVENT
END:VCALENDAR