BEGIN:VCALENDAR
VERSION:2.0
PRODID:-//Blowing Rock Charity Horse Show - ECPv6.15.17.1//NONSGML v1.0//EN
CALSCALE:GREGORIAN
METHOD:PUBLISH
X-WR-CALNAME:Blowing Rock Charity Horse Show
X-ORIGINAL-URL:https://brchs.org
X-WR-CALDESC:Events for Blowing Rock Charity Horse Show
REFRESH-INTERVAL;VALUE=DURATION:PT1H
X-Robots-Tag:noindex
X-PUBLISHED-TTL:PT1H
BEGIN:VTIMEZONE
TZID:America/New_York
BEGIN:DAYLIGHT
TZOFFSETFROM:-0500
TZOFFSETTO:-0400
TZNAME:EDT
DTSTART:20160313T070000
END:DAYLIGHT
BEGIN:STANDARD
TZOFFSETFROM:-0400
TZOFFSETTO:-0500
TZNAME:EST
DTSTART:20161106T060000
END:STANDARD
BEGIN:DAYLIGHT
TZOFFSETFROM:-0500
TZOFFSETTO:-0400
TZNAME:EDT
DTSTART:20170312T070000
END:DAYLIGHT
BEGIN:STANDARD
TZOFFSETFROM:-0400
TZOFFSETTO:-0500
TZNAME:EST
DTSTART:20171105T060000
END:STANDARD
BEGIN:DAYLIGHT
TZOFFSETFROM:-0500
TZOFFSETTO:-0400
TZNAME:EDT
DTSTART:20180311T070000
END:DAYLIGHT
BEGIN:STANDARD
TZOFFSETFROM:-0400
TZOFFSETTO:-0500
TZNAME:EST
DTSTART:20181104T060000
END:STANDARD
END:VTIMEZONE
BEGIN:VEVENT
DTSTART;TZID=America/New_York:20171008T140000
DTEND;TZID=America/New_York:20171008T170000
DTSTAMP:20260424T040950
CREATED:20170914T141512Z
LAST-MODIFIED:20170914T150921Z
UID:782-1507471200-1507482000@brchs.org
SUMMARY:Appalachian State Equestrian Team Photo / Picnic
DESCRIPTION:
URL:https://brchs.org/event/appalachian-state-equestrian-team-photo-picnic/
LOCATION:Broyhill Equestrian Preserve\, 1500 Laurel Ln\, Blowing Rock\, NC\, 28605\, United States
CATEGORIES:Events
ATTACH;FMTTYPE=image/jpeg:https://brchs.org/files/media/2017/09/asu-team-photo-2017.jpg
END:VEVENT
BEGIN:VEVENT
DTSTART;VALUE=DATE:20170930
DTEND;VALUE=DATE:20171002
DTSTAMP:20260424T040950
CREATED:20170819T130038Z
LAST-MODIFIED:20170819T130119Z
UID:777-1506729600-1506902399@brchs.org
SUMMARY:Robbie Potter 2-Day Horsemanship Clinic
DESCRIPTION:
URL:https://brchs.org/event/robbie-potter-2-day-horsemanship-clinic/
LOCATION:Broyhill Equestrian Preserve\, 1500 Laurel Ln\, Blowing Rock\, NC\, 28605\, United States
CATEGORIES:Events
END:VEVENT
BEGIN:VEVENT
DTSTART;VALUE=DATE:20170923
DTEND;VALUE=DATE:20170924
DTSTAMP:20260424T040950
CREATED:20170819T125951Z
LAST-MODIFIED:20170819T125951Z
UID:775-1506124800-1506211199@brchs.org
SUMMARY:Joe White Farrier Clinic
DESCRIPTION:
URL:https://brchs.org/event/joe-white-farrier-clinic/
LOCATION:Broyhill Equestrian Preserve\, 1500 Laurel Ln\, Blowing Rock\, NC\, 28605\, United States
CATEGORIES:Events
END:VEVENT
BEGIN:VEVENT
DTSTART;VALUE=DATE:20170422
DTEND;VALUE=DATE:20170423
DTSTAMP:20260424T040950
CREATED:20170415T214121Z
LAST-MODIFIED:20170415T221252Z
UID:130-1492819200-1492905599@brchs.org
SUMMARY:Appalachian State University Equestrian Team Spring Schooling Show
DESCRIPTION:
URL:https://brchs.org/event/appalachian-state-university-equestrian-team-spring-schooling-show/
LOCATION:L.M. Tate Showgrounds at the Broyhill Equestrian Preserve\, 1500 Laurel Ln\, Blowing Rock\, NC\, 28605\, United States
CATEGORIES:Shows
ATTACH;FMTTYPE=image/jpeg:https://brchs.org/files/media/2017/04/asu-equestrian-spring-schooling-show.jpg
END:VEVENT
END:VCALENDAR