BEGIN:VCALENDAR
VERSION:2.0
PRODID:-//Blowing Rock Charity Horse Show - ECPv6.15.17.1//NONSGML v1.0//EN
CALSCALE:GREGORIAN
METHOD:PUBLISH
X-ORIGINAL-URL:https://brchs.org
X-WR-CALDESC:Events for Blowing Rock Charity Horse Show
REFRESH-INTERVAL;VALUE=DURATION:PT1H
X-Robots-Tag:noindex
X-PUBLISHED-TTL:PT1H
BEGIN:VTIMEZONE
TZID:America/New_York
BEGIN:DAYLIGHT
TZOFFSETFROM:-0500
TZOFFSETTO:-0400
TZNAME:EDT
DTSTART:20170312T070000
END:DAYLIGHT
BEGIN:STANDARD
TZOFFSETFROM:-0400
TZOFFSETTO:-0500
TZNAME:EST
DTSTART:20171105T060000
END:STANDARD
BEGIN:DAYLIGHT
TZOFFSETFROM:-0500
TZOFFSETTO:-0400
TZNAME:EDT
DTSTART:20180311T070000
END:DAYLIGHT
BEGIN:STANDARD
TZOFFSETFROM:-0400
TZOFFSETTO:-0500
TZNAME:EST
DTSTART:20181104T060000
END:STANDARD
BEGIN:DAYLIGHT
TZOFFSETFROM:-0500
TZOFFSETTO:-0400
TZNAME:EDT
DTSTART:20190310T070000
END:DAYLIGHT
BEGIN:STANDARD
TZOFFSETFROM:-0400
TZOFFSETTO:-0500
TZNAME:EST
DTSTART:20191103T060000
END:STANDARD
END:VTIMEZONE
BEGIN:VEVENT
DTSTART;VALUE=DATE:20180716
DTEND;VALUE=DATE:20180813
DTSTAMP:20260417T104611
CREATED:20170415T231334Z
LAST-MODIFIED:20180420T234523Z
UID:133-1531699200-1534118399@brchs.org
SUMMARY:PRESERVE CLOSED for overnight riders\, campers\, and day parking
DESCRIPTION:
URL:https://brchs.org/event/preserve-closed-overnight-riders-campers-day-parking/
LOCATION:Broyhill Equestrian Preserve\, 1500 Laurel Ln\, Blowing Rock\, NC\, 28605\, United States
CATEGORIES:Closings
ATTACH;FMTTYPE=image/png:https://brchs.org/files/media/2017/04/closure.png
END:VEVENT
END:VCALENDAR